BEGIN:VCALENDAR
VERSION:2.0
PRODID:-//Feathers and Fruit - ECPv6.15.20//NONSGML v1.0//EN
CALSCALE:GREGORIAN
METHOD:PUBLISH
X-WR-CALNAME:Feathers and Fruit
X-ORIGINAL-URL:https://feathersandfruit.com
X-WR-CALDESC:Events for Feathers and Fruit
REFRESH-INTERVAL;VALUE=DURATION:PT1H
X-Robots-Tag:noindex
X-PUBLISHED-TTL:PT1H
BEGIN:VTIMEZONE
TZID:America/New_York
BEGIN:DAYLIGHT
TZOFFSETFROM:-0500
TZOFFSETTO:-0400
TZNAME:EDT
DTSTART:20220313T070000
END:DAYLIGHT
BEGIN:STANDARD
TZOFFSETFROM:-0400
TZOFFSETTO:-0500
TZNAME:EST
DTSTART:20221106T060000
END:STANDARD
BEGIN:DAYLIGHT
TZOFFSETFROM:-0500
TZOFFSETTO:-0400
TZNAME:EDT
DTSTART:20230312T070000
END:DAYLIGHT
BEGIN:STANDARD
TZOFFSETFROM:-0400
TZOFFSETTO:-0500
TZNAME:EST
DTSTART:20231105T060000
END:STANDARD
BEGIN:DAYLIGHT
TZOFFSETFROM:-0500
TZOFFSETTO:-0400
TZNAME:EDT
DTSTART:20240310T070000
END:DAYLIGHT
BEGIN:STANDARD
TZOFFSETFROM:-0400
TZOFFSETTO:-0500
TZNAME:EST
DTSTART:20241103T060000
END:STANDARD
END:VTIMEZONE
BEGIN:VEVENT
DTSTART;TZID=America/New_York:20231029T120000
DTEND;TZID=America/New_York:20231029T170000
DTSTAMP:20260419T172859
CREATED:20230113T222532Z
LAST-MODIFIED:20230113T230540Z
UID:203916-1698580800-1698598800@feathersandfruit.com
SUMMARY:Defensive Shotgun 1
DESCRIPTION:This class is designed for both the shotgun novice\, experienced shooter\, or anyone who wants to carry confidently & competently. \nYou wouldn’t pass your driving test one day and expect to win the Daytona 500 the next day. At Sequatchie School\, we hear from folks time and again that “I have my permit”. Great! But do you know how to actually survive a defensive encounter? \nThe sad fact is a “Permit” doesn’t mean you know how to shoot. This class is designed for those who currently carry concealed\, want to\, or those who have never truly had professional training. \nThe AVERAGE gunfight in America is: less than 3 shots\, at less than 3 yards\, in less than 3 seconds. LESS THAN 9 FEET-AND ALL OVER IN UNDER 3 SECONDS! \nThis course starts with a class room portion on firearm safety\, legalities of deadly force and proper mindset. We review shooting fundamentals\, loading / unloading / reloading and then move to the range where we cover: \nCarryWeapon SelectionWeapon ManipulationStanceGripSightPictureSight AlignmentTrigger ManipulationFollow Through \nIf you have never had professional handgun instruction before\, this is the class to start with. It is also the prerequisite for all of our more advanced handgun classes. \nRequired Equipment: Functional shotgun\, any caliber. Semi-auto preferred\, QUALITY Kydex or Leather Holster\, 20 Rounds Ammo\, Eye and Ear Protection\, Weather Appropriate Clothing\, Comfortable Shoes\, Reusable Water Bottle & Snacks. \nRegistration : Secure spot with this $25 Non-Refundable Deposit. Remainder ($200) CASH ONLY due upon arrival. No Checks. No Cards. \nWe shoot rain or shine. \n			\n				\n				\n				\n				\n				Buy Tickets
URL:https://feathersandfruit.com/event/defensive-shotgun-1-102923/
LOCATION:Feathers & Fruit\, 9320 Dallas Hollow Road\, Soddy Daisy\, TN\, 37379\, United States
CATEGORIES:Gun Classes
ATTACH;FMTTYPE=image/jpeg:https://feathersandfruit.com/wp-content/uploads/2023/01/pistol-gals.jpg
END:VEVENT
END:VCALENDAR