BEGIN:VCALENDAR
VERSION:2.0
PRODID:-//Feathers and Fruit - ECPv6.15.20//NONSGML v1.0//EN
CALSCALE:GREGORIAN
METHOD:PUBLISH
X-WR-CALNAME:Feathers and Fruit
X-ORIGINAL-URL:https://feathersandfruit.com
X-WR-CALDESC:Events for Feathers and Fruit
REFRESH-INTERVAL;VALUE=DURATION:PT1H
X-Robots-Tag:noindex
X-PUBLISHED-TTL:PT1H
BEGIN:VTIMEZONE
TZID:America/New_York
BEGIN:DAYLIGHT
TZOFFSETFROM:-0500
TZOFFSETTO:-0400
TZNAME:EDT
DTSTART:20230312T070000
END:DAYLIGHT
BEGIN:STANDARD
TZOFFSETFROM:-0400
TZOFFSETTO:-0500
TZNAME:EST
DTSTART:20231105T060000
END:STANDARD
BEGIN:DAYLIGHT
TZOFFSETFROM:-0500
TZOFFSETTO:-0400
TZNAME:EDT
DTSTART:20240310T070000
END:DAYLIGHT
BEGIN:STANDARD
TZOFFSETFROM:-0400
TZOFFSETTO:-0500
TZNAME:EST
DTSTART:20241103T060000
END:STANDARD
BEGIN:DAYLIGHT
TZOFFSETFROM:-0500
TZOFFSETTO:-0400
TZNAME:EDT
DTSTART:20250309T070000
END:DAYLIGHT
BEGIN:STANDARD
TZOFFSETFROM:-0400
TZOFFSETTO:-0500
TZNAME:EST
DTSTART:20251102T060000
END:STANDARD
END:VTIMEZONE
BEGIN:VEVENT
DTSTART;TZID=America/New_York:20240706T130000
DTEND;TZID=America/New_York:20240706T160000
DTSTAMP:20260419T170847
CREATED:20240129T190323Z
LAST-MODIFIED:20240129T224224Z
UID:30002766-1720270800-1720281600@feathersandfruit.com
SUMMARY:Canning 101: Apple Pie Filling
DESCRIPTION:Learn how to can in a casual\, outdoor environment surrounded by woods\, fresh air and farm land. In this three hour class\, you’ll get hands on with water bath canning as well as discover some insights to quick pickling\, pressure canning\, & be able to preserve more than just maters. \nClasses are limited to 18 participants as a canner can only hold 9 pints & we’ll be making two batches. See\, you’re learning already! By the end of the class\, you will walk away with the confidence to can your own salsa\, jellies\, applesauce & more! \nFor $60/per person\, you’ll leave with a pint of your own flavorful farm fresh goodness made with locally grown ingredients. You will also have the opportunity to purchase more Feathers & Fruit canned goods as well as shop the BFF Apothecary! \nBring snacks or lunch as we will be engaged the entire class time but the casual environment will allow for grazing & drinks. BYOB as you will be encouraged to drink every time you hear “prep” (which we only prep for the first hour). \nAbout the instructor: Jessie Gantt-Temple has owned & farmed Feathers & Fruit in Soddy Daisy since 2016. Rotating over two hundred chickens in pasture & growing an orchard with blueberries\, blackberries & figs\, she has grown her knowledge of canning for years. Her passion is decreasing food waste so she was encouraged to can when farmers at the Main St Farmers Market began gifting her seconds or bulk produce to preserve. Serving as the Main St. Farmers Market President for the past four years & previously a Crabtree Farms workshare for seven years\, her farm goals are to continue to grow her preservation skills by sharing them with others. \nAll materials (jars\, ingredients\, print outs\, pens) will be supplied by me. I will need access to a stove & running water. Participants bring reusable water bottle\, beverage of choice (as one drinks every time I say prep) and lunch or snacks. \n			\n				Buy Tickets
URL:https://feathersandfruit.com/event/canning-101-apple-pie-filling-070624/
LOCATION:Bird Fork Farm\, Lewis Cross Rd\, Dunlap\, TN\, 37327-6807\, United States
CATEGORIES:Canning Classes
ATTACH;FMTTYPE=image/jpeg:https://feathersandfruit.com/wp-content/uploads/2024/01/bird-fork-farm-logo.jpeg
END:VEVENT
END:VCALENDAR