BEGIN:VCALENDAR
VERSION:2.0
PRODID:-//Feathers and Fruit - ECPv6.15.20//NONSGML v1.0//EN
CALSCALE:GREGORIAN
METHOD:PUBLISH
X-ORIGINAL-URL:https://feathersandfruit.com
X-WR-CALDESC:Events for Feathers and Fruit
REFRESH-INTERVAL;VALUE=DURATION:PT1H
X-Robots-Tag:noindex
X-PUBLISHED-TTL:PT1H
BEGIN:VTIMEZONE
TZID:America/New_York
BEGIN:DAYLIGHT
TZOFFSETFROM:-0500
TZOFFSETTO:-0400
TZNAME:EDT
DTSTART:20230312T070000
END:DAYLIGHT
BEGIN:STANDARD
TZOFFSETFROM:-0400
TZOFFSETTO:-0500
TZNAME:EST
DTSTART:20231105T060000
END:STANDARD
BEGIN:DAYLIGHT
TZOFFSETFROM:-0500
TZOFFSETTO:-0400
TZNAME:EDT
DTSTART:20240310T070000
END:DAYLIGHT
BEGIN:STANDARD
TZOFFSETFROM:-0400
TZOFFSETTO:-0500
TZNAME:EST
DTSTART:20241103T060000
END:STANDARD
BEGIN:DAYLIGHT
TZOFFSETFROM:-0500
TZOFFSETTO:-0400
TZNAME:EDT
DTSTART:20250309T070000
END:DAYLIGHT
BEGIN:STANDARD
TZOFFSETFROM:-0400
TZOFFSETTO:-0500
TZNAME:EST
DTSTART:20251102T060000
END:STANDARD
END:VTIMEZONE
BEGIN:VEVENT
DTSTART;TZID=America/New_York:20240118T173000
DTEND;TZID=America/New_York:20240118T203000
DTSTAMP:20260419T142641
CREATED:20240116T035251Z
LAST-MODIFIED:20240116T040222Z
UID:30002716-1705599000-1705609800@feathersandfruit.com
SUMMARY:Canning Classes at Audubon Acres
DESCRIPTION:January 18th (veggie stock) \nYou must be knowledgeable in canning before taking this class as we will not be going over basics\, only pressure canning. By the end of the class\, you will walk away with the confidence to can your own low acidic items like bone broth\, soups\, meats\, veg & more! \nYour fee per person gets you three hours of class\, a quart of your own flavorful farm fresh stock and lots of knowledge that will make you feel like a professional homesteader \nByob\, friends and food as it will be a fun interactive class & you drink every time I say prep as there’s always lots of prepping in food preservation. Don’t worry\, we only prep for the first hour. \nMarch 14th (pickled eggs) \nMay 2nd (jam or marmalade) \nJuly 25th (Basil Garlic Mater sauce) \nSeptember 26th (Spiced Apples) \nJoin us for a delightful and educational hands-on seasonal canning class\, where we delve into the art and science of preserving the bounties of each season. Get hands-on experience in the art of canning as you work with fresh\, locally sourced produce. Learn the proper methods for preparation\, sterilization\, and sealing to guarantee safe and flavorful preserved foods. \nTake-Home Treats: Participants will take home their creations\, allowing them to savor the flavors of the season throughout the year. \nAll necessary canning materials will be provided. This class will focus on safe canning practices\, ensuring that participants gain the confidence to continue preserving seasonal delights at home. \n​Pre-registration is necessary for these events. Tickets are $75 per class for members and $80 per class for non-members. \nIf you have any questions\, please email enull@chattaudubon.org or call 423-892-1499 \n			\n				Buy Tickets
URL:https://feathersandfruit.com/event/canning-classes-at-audubon-acres/
LOCATION:Audubon Acres\, 900 N Sanctuary Rd\, Chattanooga\, TN\, United States
CATEGORIES:Canning Classes
ATTACH;FMTTYPE=image/jpeg:https://feathersandfruit.com/wp-content/uploads/2024/01/feathers-and-fruit-stacked-canned-goods.jpg
END:VEVENT
END:VCALENDAR