BEGIN:VCALENDAR
VERSION:2.0
PRODID:-//Feathers and Fruit - ECPv6.15.20//NONSGML v1.0//EN
CALSCALE:GREGORIAN
METHOD:PUBLISH
X-WR-CALNAME:Feathers and Fruit
X-ORIGINAL-URL:https://feathersandfruit.com
X-WR-CALDESC:Events for Feathers and Fruit
REFRESH-INTERVAL;VALUE=DURATION:PT1H
X-Robots-Tag:noindex
X-PUBLISHED-TTL:PT1H
BEGIN:VTIMEZONE
TZID:America/New_York
BEGIN:DAYLIGHT
TZOFFSETFROM:-0500
TZOFFSETTO:-0400
TZNAME:EDT
DTSTART:20220313T070000
END:DAYLIGHT
BEGIN:STANDARD
TZOFFSETFROM:-0400
TZOFFSETTO:-0500
TZNAME:EST
DTSTART:20221106T060000
END:STANDARD
BEGIN:DAYLIGHT
TZOFFSETFROM:-0500
TZOFFSETTO:-0400
TZNAME:EDT
DTSTART:20230312T070000
END:DAYLIGHT
BEGIN:STANDARD
TZOFFSETFROM:-0400
TZOFFSETTO:-0500
TZNAME:EST
DTSTART:20231105T060000
END:STANDARD
BEGIN:DAYLIGHT
TZOFFSETFROM:-0500
TZOFFSETTO:-0400
TZNAME:EDT
DTSTART:20240310T070000
END:DAYLIGHT
BEGIN:STANDARD
TZOFFSETFROM:-0400
TZOFFSETTO:-0500
TZNAME:EST
DTSTART:20241103T060000
END:STANDARD
END:VTIMEZONE
BEGIN:VEVENT
DTSTART;TZID=America/New_York:20231118T120000
DTEND;TZID=America/New_York:20231118T130000
DTSTAMP:20260419T172858
CREATED:20231030T203437Z
LAST-MODIFIED:20231030T213038Z
UID:30002677-1700308800-1700312400@feathersandfruit.com
SUMMARY:Farm Yoga with Jimmy
DESCRIPTION:Nothing better for the soul than fresh air & grounding your toes in the earth. Join us for a relaxing session of yoga & add on post stretch\, high protein snack of our hardboiled eggs\, Fall Creek Farm kefir\, Niedlov sourdough English muffins & our marmalades. New Wave Coffee & kombucha served with snacks too. Bring a reusable water bottle. \nJimmy Urciuoli has been leading yoga in the Chattanooga area and beyond for over 10 years\, and specializes in a slow\, mindful style that is suited for all levels of experience. He wishes to create an inviting space that allows people to explore their bodies and minds in an approachable way. \nVisit his website to find more info https://www.jimonalimb.net/ \n			\n				Buy Tickets
URL:https://feathersandfruit.com/event/farm-yoga-with-jimmy-111823/
LOCATION:Feathers & Fruit\, 9320 Dallas Hollow Road\, Soddy Daisy\, TN\, 37379\, United States
CATEGORIES:Workout Classes
ATTACH;FMTTYPE=image/jpeg:https://feathersandfruit.com/wp-content/uploads/2023/10/feathers-and-fruit-yoga-with-jimmy.jpg
END:VEVENT
END:VCALENDAR