BEGIN:VCALENDAR
VERSION:2.0
PRODID:-//Feathers and Fruit - ECPv6.15.20//NONSGML v1.0//EN
CALSCALE:GREGORIAN
METHOD:PUBLISH
X-ORIGINAL-URL:https://feathersandfruit.com
X-WR-CALDESC:Events for Feathers and Fruit
REFRESH-INTERVAL;VALUE=DURATION:PT1H
X-Robots-Tag:noindex
X-PUBLISHED-TTL:PT1H
BEGIN:VTIMEZONE
TZID:America/New_York
BEGIN:DAYLIGHT
TZOFFSETFROM:-0500
TZOFFSETTO:-0400
TZNAME:EDT
DTSTART:20220313T070000
END:DAYLIGHT
BEGIN:STANDARD
TZOFFSETFROM:-0400
TZOFFSETTO:-0500
TZNAME:EST
DTSTART:20221106T060000
END:STANDARD
BEGIN:DAYLIGHT
TZOFFSETFROM:-0500
TZOFFSETTO:-0400
TZNAME:EDT
DTSTART:20230312T070000
END:DAYLIGHT
BEGIN:STANDARD
TZOFFSETFROM:-0400
TZOFFSETTO:-0500
TZNAME:EST
DTSTART:20231105T060000
END:STANDARD
BEGIN:DAYLIGHT
TZOFFSETFROM:-0500
TZOFFSETTO:-0400
TZNAME:EDT
DTSTART:20240310T070000
END:DAYLIGHT
BEGIN:STANDARD
TZOFFSETFROM:-0400
TZOFFSETTO:-0500
TZNAME:EST
DTSTART:20241103T060000
END:STANDARD
END:VTIMEZONE
BEGIN:VEVENT
DTSTART;TZID=America/New_York:20231104T100000
DTEND;TZID=America/New_York:20231104T110000
DTSTAMP:20260419T173011
CREATED:20231027T053131Z
LAST-MODIFIED:20231030T211038Z
UID:30002668-1699092000-1699095600@feathersandfruit.com
SUMMARY:Farm Fit
DESCRIPTION:Certified personal coach & trainer Rachel Reed will lead a one-hour workout that includes farm & field. Add on a protein rich\, local farm breakfast. \nEnjoy working out in open air on farm fields with great views of Mowbray Mountain\, an orchard & hundreds of chickens. Farmers carry\, wheelbarrow walks and wheelbarrows are just a few of the fun exercises we’ll do. \nAdd-on the post-workout brunch that will include two hard-boiled eggs (pickled if you like)\, Fall Creek Farms flavored kefir\, New Wave Coffee\, Niedlov’s sourdough english muffins & homemade Feathers & Fruit preserves of your choosing. \nLimited to 20 particpants. \n			\n				Buy Tickets
URL:https://feathersandfruit.com/event/farm-fit-110423/
LOCATION:Feathers & Fruit\, 9320 Dallas Hollow Road\, Soddy Daisy\, TN\, 37379\, United States
CATEGORIES:Workout Classes
ATTACH;FMTTYPE=image/jpeg:https://feathersandfruit.com/wp-content/uploads/2023/10/feathers-and-fruit-farm-fit.jpg
END:VEVENT
END:VCALENDAR