BEGIN:VCALENDAR
VERSION:2.0
PRODID:-//Feathers and Fruit - ECPv6.15.20//NONSGML v1.0//EN
CALSCALE:GREGORIAN
METHOD:PUBLISH
X-ORIGINAL-URL:https://feathersandfruit.com
X-WR-CALDESC:Events for Feathers and Fruit
REFRESH-INTERVAL;VALUE=DURATION:PT1H
X-Robots-Tag:noindex
X-PUBLISHED-TTL:PT1H
BEGIN:VTIMEZONE
TZID:America/New_York
BEGIN:DAYLIGHT
TZOFFSETFROM:-0500
TZOFFSETTO:-0400
TZNAME:EDT
DTSTART:20220313T070000
END:DAYLIGHT
BEGIN:STANDARD
TZOFFSETFROM:-0400
TZOFFSETTO:-0500
TZNAME:EST
DTSTART:20221106T060000
END:STANDARD
BEGIN:DAYLIGHT
TZOFFSETFROM:-0500
TZOFFSETTO:-0400
TZNAME:EDT
DTSTART:20230312T070000
END:DAYLIGHT
BEGIN:STANDARD
TZOFFSETFROM:-0400
TZOFFSETTO:-0500
TZNAME:EST
DTSTART:20231105T060000
END:STANDARD
BEGIN:DAYLIGHT
TZOFFSETFROM:-0500
TZOFFSETTO:-0400
TZNAME:EDT
DTSTART:20240310T070000
END:DAYLIGHT
BEGIN:STANDARD
TZOFFSETFROM:-0400
TZOFFSETTO:-0500
TZNAME:EST
DTSTART:20241103T060000
END:STANDARD
END:VTIMEZONE
BEGIN:VEVENT
DTSTART;VALUE=DATE:20230410
DTEND;VALUE=DATE:20230417
DTSTAMP:20260420T031508
CREATED:20230113T224332Z
LAST-MODIFIED:20230330T212959Z
UID:203929-1681084800-1681689599@feathersandfruit.com
SUMMARY:Get Food Smart TN - Food Waste Awareness Week
DESCRIPTION:Get Food Smart TN – Food Waste Awareness Week \nTennessee Department of Environment and Conservation is hosting a statewide food drive to educate all about food waste. \nWe are partnering with Lupi’s Pizza who will host the statewide food drive at all five locations from April 3-31st. \n			\n				\n				\n				\n				\n				Learn More
URL:https://feathersandfruit.com/event/get-food-smart-tn-food-waste-awareness-week-2023/
LOCATION:TN
CATEGORIES:Other Events
ATTACH;FMTTYPE=image/png:https://feathersandfruit.com/wp-content/uploads/2023/01/2023-FWAW-Save-the-Date.png
END:VEVENT
END:VCALENDAR