BEGIN:VCALENDAR
VERSION:2.0
PRODID:-//Feathers and Fruit - ECPv6.15.20//NONSGML v1.0//EN
CALSCALE:GREGORIAN
METHOD:PUBLISH
X-WR-CALNAME:Feathers and Fruit
X-ORIGINAL-URL:https://feathersandfruit.com
X-WR-CALDESC:Events for Feathers and Fruit
REFRESH-INTERVAL;VALUE=DURATION:PT1H
X-Robots-Tag:noindex
X-PUBLISHED-TTL:PT1H
BEGIN:VTIMEZONE
TZID:America/New_York
BEGIN:DAYLIGHT
TZOFFSETFROM:-0500
TZOFFSETTO:-0400
TZNAME:EDT
DTSTART:20220313T070000
END:DAYLIGHT
BEGIN:STANDARD
TZOFFSETFROM:-0400
TZOFFSETTO:-0500
TZNAME:EST
DTSTART:20221106T060000
END:STANDARD
BEGIN:DAYLIGHT
TZOFFSETFROM:-0500
TZOFFSETTO:-0400
TZNAME:EDT
DTSTART:20230312T070000
END:DAYLIGHT
BEGIN:STANDARD
TZOFFSETFROM:-0400
TZOFFSETTO:-0500
TZNAME:EST
DTSTART:20231105T060000
END:STANDARD
BEGIN:DAYLIGHT
TZOFFSETFROM:-0500
TZOFFSETTO:-0400
TZNAME:EDT
DTSTART:20240310T070000
END:DAYLIGHT
BEGIN:STANDARD
TZOFFSETFROM:-0400
TZOFFSETTO:-0500
TZNAME:EST
DTSTART:20241103T060000
END:STANDARD
END:VTIMEZONE
BEGIN:VEVENT
DTSTART;TZID=America/New_York:20230408T110000
DTEND;TZID=America/New_York:20230408T130000
DTSTAMP:20260420T031255
CREATED:20230320T152659Z
LAST-MODIFIED:20230330T205946Z
UID:203986-1680951600-1680958800@feathersandfruit.com
SUMMARY:Gaining Ground's Second Saturdays
DESCRIPTION:I’ll be hosting a live canning demonstration along with other fun stuff happening so come by and see me do what I do best then get some local groceries.\n \nI’ll also have our canned good staples like pickled eggs\, spiced apples\, stewed maters & more for sale. Stop by & also enter your name to  win an #Eggstravaganza basket.
URL:https://feathersandfruit.com/event/gaining-grounds-second-saturdays/
LOCATION:Chattanooga Food Center\, 1918 Union Ave\, Chattanooga\, TN\, 37404\, United States
CATEGORIES:Canning Classes,Other Events
ATTACH;FMTTYPE=image/jpeg:https://feathersandfruit.com/wp-content/uploads/2023/03/Gaining-Ground-Logo.jpg
END:VEVENT
END:VCALENDAR